BEGIN:VCALENDAR
VERSION:2.0
PRODID:-//Cripple Creek - ECPv6.15.3//NONSGML v1.0//EN
CALSCALE:GREGORIAN
METHOD:PUBLISH
X-ORIGINAL-URL:https://www.cripplecreekhoa.com
X-WR-CALDESC:Events for Cripple Creek
REFRESH-INTERVAL;VALUE=DURATION:PT1H
X-Robots-Tag:noindex
X-PUBLISHED-TTL:PT1H
BEGIN:VTIMEZONE
TZID:UTC
BEGIN:STANDARD
TZOFFSETFROM:+0000
TZOFFSETTO:+0000
TZNAME:UTC
DTSTART:20170101T000000
END:STANDARD
END:VTIMEZONE
BEGIN:VEVENT
DTSTART;TZID=UTC:20250515T080000
DTEND;TZID=UTC:20250517T140000
DTSTAMP:20260423T125504
CREATED:20250413T201849Z
LAST-MODIFIED:20250413T201849Z
UID:389-1747296000-1747490400@www.cripplecreekhoa.com
SUMMARY:2025 Spring Garage Sales
DESCRIPTION:Hi Neighbors please join us in hosting or buying at the 2025 Cripple Creek Garage Sales! \nThey will be held Thursday May 15th to Saturday May 17th. \nHave fun!
URL:https://www.cripplecreekhoa.com/event/2025-spring-garage-sales/
END:VEVENT
BEGIN:VEVENT
DTSTART;TZID=UTC:20240518T100000
DTEND;TZID=UTC:20240518T140000
DTSTAMP:20260423T125504
CREATED:20240314T031501Z
LAST-MODIFIED:20240518T011834Z
UID:284-1716026400-1716040800@www.cripplecreekhoa.com
SUMMARY:2024 Commons Clean Up Postponed
DESCRIPTION:Join fellow HOA members at our spring clean up. We will have a chipper and plan to clean up fallen branches in our common areas. \nSorry we need to reschedule\, the event will not take place on May 18.
URL:https://www.cripplecreekhoa.com/event/2024-commons-clean-up/
END:VEVENT
BEGIN:VEVENT
DTSTART;TZID=UTC:20240503T080000
DTEND;TZID=UTC:20240504T150000
DTSTAMP:20260423T125504
CREATED:20230401T193027Z
LAST-MODIFIED:20240314T030202Z
UID:254-1714723200-1714834800@www.cripplecreekhoa.com
SUMMARY:2024 CCHOA Garage Sale Weekend
DESCRIPTION:The 2024 Cripple Creek HOA garage sale weekend will be May 4th to Saturday May 5th.
URL:https://www.cripplecreekhoa.com/event/2023-cchoa-garage-sale-weekend/
END:VEVENT
BEGIN:VEVENT
DTSTART;TZID=UTC:20230706T190000
DTEND;TZID=UTC:20230706T200000
DTSTAMP:20260423T125504
CREATED:20230623T012419Z
LAST-MODIFIED:20230623T012451Z
UID:264-1688670000-1688673600@www.cripplecreekhoa.com
SUMMARY:2023 Annual Cripple Creek Homeowners Association Meeting
DESCRIPTION:Please join us for our annual meeting on Thursday July 6\, 2023 at 7 pm. We will once again be meeting at the Holiday Inn Express Lincoln SW\, 2500 Tamarin Ridge Rd\, Lincoln 68512.
URL:https://www.cripplecreekhoa.com/event/2023-annual-cripple-creek-homeowners-association-meeting/
END:VEVENT
BEGIN:VEVENT
DTSTART;TZID=UTC:20230429T100000
DTEND;TZID=UTC:20230429T140000
DTSTAMP:20260423T125504
CREATED:20230401T191426Z
LAST-MODIFIED:20230401T191426Z
UID:250-1682762400-1682776800@www.cripplecreekhoa.com
SUMMARY:2023 Spring Clean up
DESCRIPTION:Please join neighbors and friends as we once again perform general maintance work in our association common areas. We will have a chipper on hand to clean up fallen branches.  We will meet at the entrance to the north and middle commons on Cripple Creek Rd. just off Crooked Creek Dr. Join us Saturday April 29th at 10 am.
URL:https://www.cripplecreekhoa.com/event/2023-spring-clean-up/
END:VEVENT
BEGIN:VEVENT
DTSTART;TZID=UTC:20220726T190000
DTEND;TZID=UTC:20220726T200000
DTSTAMP:20260423T125504
CREATED:20220610T153409Z
LAST-MODIFIED:20220610T153409Z
UID:245-1658862000-1658865600@www.cripplecreekhoa.com
SUMMARY:2022 CCHOA Annual Meeting
DESCRIPTION:Please join us for our annual meeting on Monday July 26\, 2022 at 7 pm. We will once again be meeting at the Holiday Inn Express Lincoln SW\, 2500 Tamarin Ridge Rd\, Lincoln 68512.
URL:https://www.cripplecreekhoa.com/event/2022-cchoa-annual-meeting/
END:VEVENT
BEGIN:VEVENT
DTSTART;TZID=UTC:20220610T080000
DTEND;TZID=UTC:20220610T170000
DTSTAMP:20260423T125504
CREATED:20220610T152622Z
LAST-MODIFIED:20220610T152622Z
UID:242-1654848000-1654880400@www.cripplecreekhoa.com
SUMMARY:Garage Sales are June 10th and 11th!
DESCRIPTION:
URL:https://www.cripplecreekhoa.com/event/garage-sales-are-june-10th-and-11th/
END:VEVENT
BEGIN:VEVENT
DTSTART;TZID=UTC:20220409T100000
DTEND;TZID=UTC:20220409T140000
DTSTAMP:20260423T125504
CREATED:20220331T163335Z
LAST-MODIFIED:20220331T172352Z
UID:232-1649498400-1649512800@www.cripplecreekhoa.com
SUMMARY:Spring Clean Up 2022
DESCRIPTION:Please join neighbors and friends as we once again work to clean up our association common areas. \nThis year we will meet at the entrance to the north and middle commons on Cripple Creek Rd. just off Crooked Creek Dr. \nJoin us Saturday April 9th at 10 am. \n 
URL:https://www.cripplecreekhoa.com/event/spring-clean-up-2022/
END:VEVENT
BEGIN:VEVENT
DTSTART;TZID=UTC:20210719T190000
DTEND;TZID=UTC:20210726T200000
DTSTAMP:20260423T125504
CREATED:20210712T174921Z
LAST-MODIFIED:20210712T174921Z
UID:222-1626721200-1627329600@www.cripplecreekhoa.com
SUMMARY:2021 Annual HOA Meeting
DESCRIPTION:Please join us for our annual meeting on Monday July 19\, 2021 at 7 pm. We will once again be meeting at the Holiday Inn Express Lincoln SW\, 2500 Tamarin Ridge Rd\, Lincoln 68512. \n 
URL:https://www.cripplecreekhoa.com/event/2021-annual-hoa-meeting/
END:VEVENT
BEGIN:VEVENT
DTSTART;TZID=UTC:20210520T080000
DTEND;TZID=UTC:20210522T170000
DTSTAMP:20260423T125504
CREATED:20210430T162248Z
LAST-MODIFIED:20210430T162248Z
UID:217-1621497600-1621702800@www.cripplecreekhoa.com
SUMMARY:2021 Cripple Creek HOA Garage Sales
DESCRIPTION:Hi everyone the Cripple Creek HOA garage sale weekend will be Thursday May 20th to Saturday May 22nd! Have fun and stay safe.
URL:https://www.cripplecreekhoa.com/event/2021-cripple-creek-hoa-garage-sales/
END:VEVENT
BEGIN:VEVENT
DTSTART;TZID=UTC:20210417T100000
DTEND;TZID=UTC:20210417T120000
DTSTAMP:20260423T125504
CREATED:20210316T005945Z
LAST-MODIFIED:20210316T005945Z
UID:213-1618653600-1618660800@www.cripplecreekhoa.com
SUMMARY:2021 Commons Clean Up
DESCRIPTION:Please join us at the spring commons clean up on Saturday April 17\, 2021. \nPlease wear a mask and help us clear and chip fallen branches. \nThis year we will meet at the start of the North Commons on Cripple Creek Rd.
URL:https://www.cripplecreekhoa.com/event/2021-commons-clean-up/
END:VEVENT
BEGIN:VEVENT
DTSTART;TZID=UTC:20200414T100000
DTEND;TZID=UTC:20200414T130000
DTSTAMP:20260423T125504
CREATED:20200126T203722Z
LAST-MODIFIED:20200414T015604Z
UID:167-1586858400-1586869200@www.cripplecreekhoa.com
SUMMARY:2020 Commons Cleanup moved to the Fall
DESCRIPTION:We are postponing our annual Spring Cleanup and plan to have it this fall.
URL:https://www.cripplecreekhoa.com/event/2020-spring-cleanup/
LOCATION:Cripple Creek Road Lincoln\, NE
END:VEVENT
BEGIN:VEVENT
DTSTART;TZID=UTC:20190716T190000
DTEND;TZID=UTC:20190716T200000
DTSTAMP:20260423T125504
CREATED:20190701T164605Z
LAST-MODIFIED:20190701T164605Z
UID:119-1563303600-1563307200@www.cripplecreekhoa.com
SUMMARY:2019-2020 Annual Meeting Cripple Creek Homeowners Association
DESCRIPTION:Please join us for the 2019-2020 ANNUAL MEETING\nCRIPPLE CREEK HOMEOWNERS ASSOCIATION \nTUESDAY\, JULY 16th\, 2019\n7:00 p.m.\nHumann Elementary School\n6720 Rockwood Ln\, Lincoln NE 68516
URL:https://www.cripplecreekhoa.com/event/2019-2020-annual-meeting-cripple-creek-homeowners-association/
LOCATION:Humann Elementary School\, 6720 Rockwood Ln\, Lincoln\, NE\, 68516\, United States
END:VEVENT
BEGIN:VEVENT
DTSTART;TZID=UTC:20190518T110000
DTEND;TZID=UTC:20190518T143000
DTSTAMP:20260423T125504
CREATED:20190414T202612Z
LAST-MODIFIED:20190414T202612Z
UID:90-1558177200-1558189800@www.cripplecreekhoa.com
SUMMARY:Commons Clean Up May 18\, 2019
DESCRIPTION:Join us once again for a community spring clean-up of the north to south commons areas! \nMay 18\, 2018 from 11 am to 2:30 pm. \nThis year we will meet at the commons entrance on Fir Hollow Lane. \nAll are welcome to lend a hand to clean trash and help stack and remove dead tree branches and limbs. \nA roll-off will be placed on Fir Hollow Lane at the commons. \nWood piles will be chipped and all mulch left behind will be free for the taking. \nHotdogs\, chips and water will once again be provided. \nCome join us as we improve the appearance of our community grounds. \n  \n 
URL:https://www.cripplecreekhoa.com/event/commons-clean-up-may-18-2019/
LOCATION:Fir Hollow Lane\, Lincoln\, NE\, 68516
END:VEVENT
BEGIN:VEVENT
DTSTART;TZID=UTC:20190510T080000
DTEND;TZID=UTC:20190511T160000
DTSTAMP:20260423T125504
CREATED:20190414T201024Z
LAST-MODIFIED:20190414T201024Z
UID:87-1557475200-1557590400@www.cripplecreekhoa.com
SUMMARY:2019 Cripple Creek Garage Sales  - Friday May 10th 8:00 am-5:00 pm & Saturday May 11th 8:00 am-4:00 pm
DESCRIPTION:The Annual Cripple Creek Garage Sales will be held Friday May 10th 8:00 am-5:00 pm & Saturday May 11th 8:00 am-4:00 pm. \nTo place an ad for your sale please contact Board Vice President Brian Prochaska at BPvette79@yahoo.com. \nPlease include your address\, top 10 items and hours of your sale if different from above. \nWe will once again be advertising on the Linconsign Facebook Page\, Craig’s List\, Neighborhood signs our Facebook page facebook.com/cripplecreekhoa/ and any other free advertisement we can find. If you have suggestions please let us know.
URL:https://www.cripplecreekhoa.com/event/2019-cripple-creek-garage-sales-friday-may-10th-800-am-500-pm-saturday-may-11th-800-am-400-pm/
END:VEVENT
BEGIN:VEVENT
DTSTART;TZID=UTC:20180422T120000
DTEND;TZID=UTC:20180422T150000
DTSTAMP:20260423T125504
CREATED:20180404T004823Z
LAST-MODIFIED:20180404T004823Z
UID:77-1524398400-1524409200@www.cripplecreekhoa.com
SUMMARY:Commons Clean Up on Earth Day Sunday April 22\, 2018!
DESCRIPTION:Join us for the Commons Clean Up on Earth Day Sunday April 22\, 2018! \n \nWe will also have hot dogs and beverages to thank you and your kids for volunteering. \nPlease join us  as we clean up the commons of branches\, prune trees and make mulch piles. Bring your commons cleaning tools and gloves. \nWe will start at noon! \nMeet at the commons entrance at the  intersection of Crooked Creek Dr and Cripple Creek
URL:https://www.cripplecreekhoa.com/event/commons-clean-up-on-earth-day-sunday-april-22-2018/
LOCATION:Cripple Creek Road Lincoln\, NE
END:VEVENT
BEGIN:VEVENT
DTSTART;TZID=UTC:20170724T193000
DTEND;TZID=UTC:20170724T203000
DTSTAMP:20260423T125504
CREATED:20170711T002827Z
LAST-MODIFIED:20170711T002827Z
UID:73-1500924600-1500928200@www.cripplecreekhoa.com
SUMMARY:2017-2018 Annual Cripple Creek HOA Meeting
DESCRIPTION:Please join us for our annual meeting at a new location. We are also looking for volunteers to coordinate the annual Cripple Creek Garage Sales. \nThe due statements have been mailed please return your payment by mail or at the meeting. Thanks and have a great summer.
URL:https://www.cripplecreekhoa.com/event/2017-2018-annual-cripple-creek-hoa-meeting/
END:VEVENT
BEGIN:VEVENT
DTSTART;TZID=UTC:20170519T080000
DTEND;TZID=UTC:20170520T160000
DTSTAMP:20260423T125504
CREATED:20170325T183043Z
LAST-MODIFIED:20170325T183043Z
UID:65-1495180800-1495296000@www.cripplecreekhoa.com
SUMMARY:The Annual Cripple Creek Garage Sales (2017)
DESCRIPTION:The Annual Cripple Creek Garage Sales will be held Friday May 19th 8:00 am-5:00 pm & Saturday May 20th 8:00 am-4:00 pm.  \nTo place an ad for your sale please contact Amy Aerts at amyaerts@msn.com or Kendra Schmid at kschmid@hotmail.com \nPlease include your address\, top 10 items and hours of your sale if different from above. There will be no fee to place an ad this year.  \nWe will once again be advertising on the Linconsign Facebook Page\, Craig’s List\, Neighborhood signs and any other free advertisement we can find. If you have suggestions please let us know. \nThe Board wants to thank Amy and Kendra for all their efforts in organizing the garage sales for the past few years. Thank you you did a fantastic job! \nWe now need to recruit neighbors to take the reins and organize the garage sales for next year. Please contact the HOA Board if you are interested. Thank you.
URL:https://www.cripplecreekhoa.com/event/the-annual-cripple-creek-garage-sales-2017/
END:VEVENT
BEGIN:VEVENT
DTSTART;TZID=UTC:20170429T100000
DTEND;TZID=UTC:20170429T130000
DTSTAMP:20260423T125504
CREATED:20170325T182607Z
LAST-MODIFIED:20170429T152733Z
UID:61-1493460000-1493470800@www.cripplecreekhoa.com
SUMMARY:Postponed due to weather      Cripple Creek Homeowners Association Commons Clean Up Day - Saturday April 29th
DESCRIPTION:Please join us as we clean up the commons area for the Spring. We will be removing fallen branches and performing general clean up and invite all association members and families to participate. \nBring your lawn tools and we will have hot dogs and refreshments following the clean up.\nStart time is 10am and we will meet at the fence next to the entrance to the commons on Cripple Creek Road.
URL:https://www.cripplecreekhoa.com/event/cripple-creek-homeowners-association-commons-clean-up-day-saturday-april-29th/
LOCATION:Cripple Creek Road Lincoln\, NE
END:VEVENT
END:VCALENDAR